BEGIN:VCALENDAR
VERSION:2.0
PRODID:-//Lidl//NONSGML Lidl Karriere//EN
CALSCALE:GREGORIAN
BEGIN:VEVENT
LOCATION:Olomouc
DESCRIPTION:Akce se koná 20. -21. 6. 2025 v ulicích Olomouce. Organi
 zátoři slibují bohatý program plný hudebních vystoupen
 í\, uměleckých představení a programu pro děti.Na Doln
 ím náměstí se mohou návštěvníci těšit na stánek K
 aufland se skvělými burgery a v sobotu dne 21.6. také ot
 evřeme pro návštěvníky naše Distribuční centrum Olom
 ouc!Olomouc (o)žije - největší pouliční festival v ČR
DTSTART:20250620T140000Z
DTEND:20250620T220000Z
SUMMARY:Olomouc (o)žije - největší pouliční festival v ČR
URL:https://kariera.kaufland.cz/events/olomouc-o-zije-nejvetsi-p
 oulicni-festival-v-cr
DTSTAMP:20260422T232338Z
UID:69e9587aa725d
END:VEVENT
END:VCALENDAR